BEGIN:VCALENDAR
VERSION:2.0
PRODID:-//Republican Party of Green Lake County - ECPv6.15.20//NONSGML v1.0//EN
CALSCALE:GREGORIAN
METHOD:PUBLISH
X-WR-CALNAME:Republican Party of Green Lake County
X-ORIGINAL-URL:https://republicanpartyofgreenlakecounty.com
X-WR-CALDESC:Events for Republican Party of Green Lake County
REFRESH-INTERVAL;VALUE=DURATION:PT1H
X-Robots-Tag:noindex
X-PUBLISHED-TTL:PT1H
BEGIN:VTIMEZONE
TZID:UTC
BEGIN:STANDARD
TZOFFSETFROM:+0000
TZOFFSETTO:+0000
TZNAME:UTC
DTSTART:20230101T000000
END:STANDARD
END:VTIMEZONE
BEGIN:VEVENT
DTSTART;TZID=UTC:20240517T160000
DTEND;TZID=UTC:20240519T103000
DTSTAMP:20260425T151647
CREATED:20240408T144152Z
LAST-MODIFIED:20240408T144152Z
UID:160-1715961600-1716114600@republicanpartyofgreenlakecounty.com
SUMMARY:Republican Party of Wisconsin State Convention
DESCRIPTION:  \nGet tickets here \n2024 Republican Party of Wisconsin State Convention Tickets\, Fri\, May 17\, 2024 at 4:00 PM | Eventbrite
URL:https://republicanpartyofgreenlakecounty.com/event/republican-party-of-wisconsin-state-convention/
LOCATION:Fox Cities Exhibition Center\, 355 West Lawrence Street\, Appleton\, WI\, United States
ATTACH;FMTTYPE=image/jpeg:https://republicanpartyofgreenlakecounty.com/wp-content/uploads/2024/04/434686767_386959494147816_6573173008947606944_n-1.jpg
END:VEVENT
BEGIN:VEVENT
DTSTART;TZID=UTC:20240317T123000
DTEND;TZID=UTC:20240317T163000
DTSTAMP:20260425T151647
CREATED:20240303T025622Z
LAST-MODIFIED:20240310T003141Z
UID:146-1710678600-1710693000@republicanpartyofgreenlakecounty.com
SUMMARY:Lincoln Day Luncheon
DESCRIPTION:
URL:https://republicanpartyofgreenlakecounty.com/event/lincoln-day-luncheon/
LOCATION:American Legion\, 518 Water St.\, Green Lake
ATTACH;FMTTYPE=image/png:https://republicanpartyofgreenlakecounty.com/wp-content/uploads/2024/03/Green-Lake-GOP-Lincoln-Luncheon-2.png
END:VEVENT
END:VCALENDAR