BEGIN:VCALENDAR
VERSION:2.0
PRODID:-//Republican Party of Green Lake County - ECPv6.15.20//NONSGML v1.0//EN
CALSCALE:GREGORIAN
METHOD:PUBLISH
X-ORIGINAL-URL:https://republicanpartyofgreenlakecounty.com
X-WR-CALDESC:Events for Republican Party of Green Lake County
REFRESH-INTERVAL;VALUE=DURATION:PT1H
X-Robots-Tag:noindex
X-PUBLISHED-TTL:PT1H
BEGIN:VTIMEZONE
TZID:UTC
BEGIN:STANDARD
TZOFFSETFROM:+0000
TZOFFSETTO:+0000
TZNAME:UTC
DTSTART:20250101T000000
END:STANDARD
END:VTIMEZONE
BEGIN:VEVENT
DTSTART;TZID=UTC:20260128T173000
DTEND;TZID=UTC:20260128T193000
DTSTAMP:20260423T235300
CREATED:20260120T233050Z
LAST-MODIFIED:20260120T233050Z
UID:250-1769621400-1769628600@republicanpartyofgreenlakecounty.com
SUMMARY:Annual Caucus
DESCRIPTION:Wednesday Jan. 28th will be our annual caucus at Christianos Pizza\, 530 St. Hwy. 23 Green Lake. Doors open 5:30\, Pizza buffet $16 and meeting 6 pm.\nPlease be aware\, you must be a paid member of the county party to vote at the caucus and be eligible to be a delegate for the District Caucus and State Convention.\n\nConfirmed candidates speaking;  Maria Lazar\, Supreme Court candidate\n                                                      Anthony LoCoco\, Appeal Court candidate\n                                                      Eric Toney\, Attorney General candidate\n                                                      David Varnam\, Lt. Gov. candidate\n                                                      State Senator John Jagler\n                                                      State Representative Alex Dallman
URL:https://republicanpartyofgreenlakecounty.com/event/annual-caucus/
LOCATION:530 Hwy 23\, Green Lake\, WI\, 530 hwy 23\, Green Lake\, WI\, United States
END:VEVENT
BEGIN:VEVENT
DTSTART;TZID=UTC:20260308T120000
DTEND;TZID=UTC:20260308T160000
DTSTAMP:20260423T235300
CREATED:20260208T204146Z
LAST-MODIFIED:20260208T204146Z
UID:254-1772971200-1772985600@republicanpartyofgreenlakecounty.com
SUMMARY:Lincoln Day Luncheon
DESCRIPTION:Join us for our Lincoln Day Luncheon. $30 per per person which can be sent to PO Box 424\, Princeton\, WI. End time is approximate.
URL:https://republicanpartyofgreenlakecounty.com/event/lincoln-day-luncheon-2/
LOCATION:518 Water St. Green Lake\, WI
END:VEVENT
END:VCALENDAR