BEGIN:VCALENDAR
VERSION:2.0
PRODID:-//Republican Party of Green Lake County - ECPv6.15.20//NONSGML v1.0//EN
CALSCALE:GREGORIAN
METHOD:PUBLISH
X-WR-CALNAME:Republican Party of Green Lake County
X-ORIGINAL-URL:https://republicanpartyofgreenlakecounty.com
X-WR-CALDESC:Events for Republican Party of Green Lake County
REFRESH-INTERVAL;VALUE=DURATION:PT1H
X-Robots-Tag:noindex
X-PUBLISHED-TTL:PT1H
BEGIN:VTIMEZONE
TZID:UTC
BEGIN:STANDARD
TZOFFSETFROM:+0000
TZOFFSETTO:+0000
TZNAME:UTC
DTSTART:20240101T000000
END:STANDARD
END:VTIMEZONE
BEGIN:VEVENT
DTSTART;TZID=UTC:20251001T173000
DTEND;TZID=UTC:20251001T193000
DTSTAMP:20260424T032254
CREATED:20250908T023224Z
LAST-MODIFIED:20250908T023224Z
UID:239-1759339800-1759347000@republicanpartyofgreenlakecounty.com
SUMMARY:Pints and Politics
DESCRIPTION:
URL:https://republicanpartyofgreenlakecounty.com/event/pints-and-politics/
LOCATION:American Legion\, 518 Water St.\, Green Lake
ATTACH;FMTTYPE=image/png:https://republicanpartyofgreenlakecounty.com/wp-content/uploads/2025/09/Republican-party-of-green-lake-county-2.png
END:VEVENT
END:VCALENDAR